Package: SomaScan.db Version: 0.99.10 Maintainer: Amanda Hiser MaintainerEmail: ahiser at somalogic.com git_url: https://git.bioconductor.org/packages/SomaScan.db git_branch: RELEASE_3_20 git_last_commit: 7eac731 git_last_commit_date: 2024-04-26 11:28:59 -0500 (Fri, 26 Apr 2024)