Package: SomaScan.db Version: 0.99.10 Command: /home/biocbuild/bbs-3.20-bioc/R/bin/R CMD build --keep-empty-dirs --no-resave-data SomaScan.db StartedAt: 2025-02-05 06:32:32 -0500 (Wed, 05 Feb 2025) EndedAt: 2025-02-05 06:33:26 -0500 (Wed, 05 Feb 2025) EllapsedTime: 54.5 seconds RetCode: 0 Status: OK PackageFile: SomaScan.db_0.99.10.tar.gz PackageFileSize: 2.13 MiB