Package: SomaScan.db Version: 0.99.10 Command: /home/biocbuild/bbs-3.20-bioc/R/bin/R CMD check --install=check:SomaScan.db.install-out.txt --library=/home/biocbuild/bbs-3.20-bioc/R/site-library --timings SomaScan.db_0.99.10.tar.gz StartedAt: 2025-02-05 06:35:22 -0500 (Wed, 05 Feb 2025) EndedAt: 2025-02-05 06:38:20 -0500 (Wed, 05 Feb 2025) EllapsedTime: 178.7 seconds RetCode: 0 Status: OK CheckDir: SomaScan.db.Rcheck Warnings: 0