Package: UCSCRepeatMasker Version: 3.17.3 Command: /home/biocbuild/bbs-3.20-bioc/R/bin/R CMD build --keep-empty-dirs --no-resave-data UCSCRepeatMasker StartedAt: 2025-02-05 06:32:38 -0500 (Wed, 05 Feb 2025) EndedAt: 2025-02-05 06:33:15 -0500 (Wed, 05 Feb 2025) EllapsedTime: 37.0 seconds RetCode: 0 Status: OK PackageFile: UCSCRepeatMasker_3.17.3.tar.gz PackageFileSize: 303.1 KiB