Package: UCSCRepeatMasker Version: 3.17.3 Command: /home/biocbuild/bbs-3.20-bioc/R/bin/R CMD check --install=check:UCSCRepeatMasker.install-out.txt --library=/home/biocbuild/bbs-3.20-bioc/R/site-library --timings UCSCRepeatMasker_3.17.3.tar.gz StartedAt: 2025-02-05 06:35:48 -0500 (Wed, 05 Feb 2025) EndedAt: 2025-02-05 06:39:49 -0500 (Wed, 05 Feb 2025) EllapsedTime: 241.7 seconds RetCode: 1 Status: ERROR CheckDir: UCSCRepeatMasker.Rcheck Warnings: NA