Package: UCSCRepeatMasker Version: 3.17.3 Command: /home/biocbuild/bbs-3.20-bioc/R/bin/R CMD INSTALL UCSCRepeatMasker StartedAt: 2025-02-05 06:30:09 -0500 (Wed, 05 Feb 2025) EndedAt: 2025-02-05 06:30:23 -0500 (Wed, 05 Feb 2025) EllapsedTime: 14.5 seconds RetCode: 0 Status: OK