Package: UniProtKeywords Version: 0.99.7 Command: /home/biocbuild/bbs-3.20-bioc/R/bin/R CMD check --install=check:UniProtKeywords.install-out.txt --library=/home/biocbuild/bbs-3.20-bioc/R/site-library --timings UniProtKeywords_0.99.7.tar.gz StartedAt: 2025-02-05 06:35:56 -0500 (Wed, 05 Feb 2025) EndedAt: 2025-02-05 06:36:17 -0500 (Wed, 05 Feb 2025) EllapsedTime: 20.9 seconds RetCode: 0 Status: OK CheckDir: UniProtKeywords.Rcheck Warnings: 0