Package: UniProtKeywords Version: 0.99.7 Command: /home/biocbuild/bbs-3.20-bioc/R/bin/R CMD INSTALL UniProtKeywords StartedAt: 2025-02-05 06:30:06 -0500 (Wed, 05 Feb 2025) EndedAt: 2025-02-05 06:30:09 -0500 (Wed, 05 Feb 2025) EllapsedTime: 2.4 seconds RetCode: 0 Status: OK