Package: metaboliteIDmapping Version: 0.99.10 Command: /home/biocbuild/bbs-3.20-bioc/R/bin/R CMD build --keep-empty-dirs --no-resave-data metaboliteIDmapping StartedAt: 2025-02-05 06:32:06 -0500 (Wed, 05 Feb 2025) EndedAt: 2025-02-05 06:33:39 -0500 (Wed, 05 Feb 2025) EllapsedTime: 93.1 seconds RetCode: 0 Status: OK PackageFile: metaboliteIDmapping_0.99.10.tar.gz PackageFileSize: 312.4 KiB