Package: org.Mxanthus.db Version: 1.0.27 Command: /home/biocbuild/bbs-3.20-bioc/R/bin/R CMD INSTALL org.Mxanthus.db StartedAt: 2025-02-05 06:30:08 -0500 (Wed, 05 Feb 2025) EndedAt: 2025-02-05 06:30:26 -0500 (Wed, 05 Feb 2025) EllapsedTime: 18.0 seconds RetCode: 0 Status: OK