Package: rGenomeTracksData Version: 0.99.0 Command: /home/biocbuild/bbs-3.20-bioc/R/bin/R CMD build --keep-empty-dirs --no-resave-data rGenomeTracksData StartedAt: 2025-02-05 06:32:30 -0500 (Wed, 05 Feb 2025) EndedAt: 2025-02-05 06:32:52 -0500 (Wed, 05 Feb 2025) EllapsedTime: 21.7 seconds RetCode: 0 Status: OK PackageFile: rGenomeTracksData_0.99.0.tar.gz PackageFileSize: 9.975 KiB