Package: rGenomeTracksData Version: 0.99.0 Command: /home/biocbuild/bbs-3.20-bioc/R/bin/R CMD INSTALL rGenomeTracksData StartedAt: 2025-02-05 06:30:21 -0500 (Wed, 05 Feb 2025) EndedAt: 2025-02-05 06:30:29 -0500 (Wed, 05 Feb 2025) EllapsedTime: 8.9 seconds RetCode: 0 Status: OK