Package: ALLMLL Version: 1.46.0 Command: /home/biocbuild/bbs-3.20-bioc/R/bin/R CMD build --keep-empty-dirs --no-resave-data ALLMLL StartedAt: 2025-02-04 11:06:09 -0500 (Tue, 04 Feb 2025) EndedAt: 2025-02-04 11:06:15 -0500 (Tue, 04 Feb 2025) EllapsedTime: 5.9 seconds RetCode: 0 Status: OK PackageFile: ALLMLL_1.46.0.tar.gz PackageFileSize: 25.62 MiB