Package: ARRmData Version: 1.42.0 Command: /home/biocbuild/bbs-3.20-bioc/R/bin/R CMD check --install=check:ARRmData.install-out.txt --library=/home/biocbuild/bbs-3.20-bioc/R/site-library --timings ARRmData_1.42.0.tar.gz StartedAt: 2025-02-06 11:44:14 -0500 (Thu, 06 Feb 2025) EndedAt: 2025-02-06 11:44:41 -0500 (Thu, 06 Feb 2025) EllapsedTime: 27.2 seconds RetCode: 0 Status: OK CheckDir: ARRmData.Rcheck Warnings: 0