Package: Affyhgu133Plus2Expr Version: 1.40.0 Command: /home/biocbuild/bbs-3.20-bioc/R/bin/R CMD INSTALL Affyhgu133Plus2Expr StartedAt: 2025-02-04 10:55:39 -0500 (Tue, 04 Feb 2025) EndedAt: 2025-02-04 10:55:50 -0500 (Tue, 04 Feb 2025) EllapsedTime: 10.3 seconds RetCode: 0 Status: OK