Package: AffymetrixDataTestFiles Version: 0.44.0 Command: /home/biocbuild/bbs-3.20-bioc/R/bin/R CMD build --keep-empty-dirs --no-resave-data AffymetrixDataTestFiles StartedAt: 2025-02-20 11:06:41 -0500 (Thu, 20 Feb 2025) EndedAt: 2025-02-20 11:07:47 -0500 (Thu, 20 Feb 2025) EllapsedTime: 65.9 seconds RetCode: 0 Status: OK PackageFile: AffymetrixDataTestFiles_0.44.0.tar.gz PackageFileSize: 38.84 <A href="http://en.wikipedia.org/wiki/MiB" target="_blank">MiB</A>