Package: AmpAffyExample Version: 1.46.0 Command: /home/biocbuild/bbs-3.20-bioc/R/bin/R CMD INSTALL AmpAffyExample StartedAt: 2025-02-06 10:56:43 -0500 (Thu, 06 Feb 2025) EndedAt: 2025-02-06 10:56:45 -0500 (Thu, 06 Feb 2025) EllapsedTime: 2.7 seconds RetCode: 0 Status: OK