Package: AshkenazimSonChr21 Version: 1.36.0 Command: /home/biocbuild/bbs-3.20-bioc/R/bin/R CMD INSTALL AshkenazimSonChr21 StartedAt: 2025-02-06 10:55:46 -0500 (Thu, 06 Feb 2025) EndedAt: 2025-02-06 10:55:50 -0500 (Thu, 06 Feb 2025) EllapsedTime: 3.8 seconds RetCode: 0 Status: OK