Package: BeadArrayUseCases Version: 1.44.1 Command: /home/biocbuild/bbs-3.20-bioc/R/bin/R CMD check --install=check:BeadArrayUseCases.install-out.txt --library=/home/biocbuild/bbs-3.20-bioc/R/site-library --timings BeadArrayUseCases_1.44.1.tar.gz StartedAt: 2025-02-06 11:44:35 -0500 (Thu, 06 Feb 2025) EndedAt: 2025-02-06 11:52:07 -0500 (Thu, 06 Feb 2025) EllapsedTime: 452.2 seconds RetCode: 0 Status: OK CheckDir: BeadArrayUseCases.Rcheck Warnings: 0