Package: BeadSorted.Saliva.EPIC Version: 1.14.0 Command: /home/biocbuild/bbs-3.20-bioc/R/bin/R CMD build --keep-empty-dirs --no-resave-data BeadSorted.Saliva.EPIC StartedAt: 2025-02-06 11:06:06 -0500 (Thu, 06 Feb 2025) EndedAt: 2025-02-06 11:06:50 -0500 (Thu, 06 Feb 2025) EllapsedTime: 43.0 seconds RetCode: 0 Status: OK PackageFile: BeadSorted.Saliva.EPIC_1.14.0.tar.gz PackageFileSize: 13.47 KiB