Package: BeadSorted.Saliva.EPIC Version: 1.14.0 Command: /home/biocbuild/bbs-3.20-bioc/R/bin/R CMD check --install=check:BeadSorted.Saliva.EPIC.install-out.txt --library=/home/biocbuild/bbs-3.20-bioc/R/site-library --timings BeadSorted.Saliva.EPIC_1.14.0.tar.gz StartedAt: 2025-02-06 11:44:37 -0500 (Thu, 06 Feb 2025) EndedAt: 2025-02-06 11:49:33 -0500 (Thu, 06 Feb 2025) EllapsedTime: 295.5 seconds RetCode: 0 Status: OK CheckDir: BeadSorted.Saliva.EPIC.Rcheck Warnings: 0