Package: BeadSorted.Saliva.EPIC Version: 1.14.0 Command: /home/biocbuild/bbs-3.20-bioc/R/bin/R CMD INSTALL BeadSorted.Saliva.EPIC StartedAt: 2025-02-06 11:04:13 -0500 (Thu, 06 Feb 2025) EndedAt: 2025-02-06 11:04:54 -0500 (Thu, 06 Feb 2025) EllapsedTime: 41.0 seconds RetCode: 0 Status: OK