Package: CCl4 Version: 1.44.0 Command: /home/biocbuild/bbs-3.20-bioc/R/bin/R CMD INSTALL CCl4 StartedAt: 2025-02-04 10:56:18 -0500 (Tue, 04 Feb 2025) EndedAt: 2025-02-04 10:56:22 -0500 (Tue, 04 Feb 2025) EllapsedTime: 3.6 seconds RetCode: 0 Status: OK