Package: COHCAPanno Version: 1.42.0 Command: /home/biocbuild/bbs-3.20-bioc/R/bin/R CMD build --keep-empty-dirs --no-resave-data COHCAPanno StartedAt: 2025-02-04 11:09:41 -0500 (Tue, 04 Feb 2025) EndedAt: 2025-02-04 11:09:48 -0500 (Tue, 04 Feb 2025) EllapsedTime: 6.9 seconds RetCode: 0 Status: OK PackageFile: COHCAPanno_1.42.0.tar.gz PackageFileSize: 9.328 MiB