Package: COPDSexualDimorphism.data Version: 1.42.0 Command: /home/biocbuild/bbs-3.20-bioc/R/bin/R CMD check --install=check:COPDSexualDimorphism.data.install-out.txt --library=/home/biocbuild/bbs-3.20-bioc/R/site-library --timings COPDSexualDimorphism.data_1.42.0.tar.gz StartedAt: 2025-02-06 11:51:03 -0500 (Thu, 06 Feb 2025) EndedAt: 2025-02-06 11:52:12 -0500 (Thu, 06 Feb 2025) EllapsedTime: 69.0 seconds RetCode: 0 Status: WARNINGS CheckDir: COPDSexualDimorphism.data.Rcheck Warnings: 1