Package: COPDSexualDimorphism.data Version: 1.42.0 Command: /home/biocbuild/bbs-3.20-bioc/R/bin/R CMD INSTALL COPDSexualDimorphism.data StartedAt: 2025-02-06 10:55:13 -0500 (Thu, 06 Feb 2025) EndedAt: 2025-02-06 10:55:15 -0500 (Thu, 06 Feb 2025) EllapsedTime: 1.8 seconds RetCode: 0 Status: OK