Package: CellMapperData Version: 1.32.0 Command: /home/biocbuild/bbs-3.20-bioc/R/bin/R CMD check --install=check:CellMapperData.install-out.txt --library=/home/biocbuild/bbs-3.20-bioc/R/site-library --timings CellMapperData_1.32.0.tar.gz StartedAt: 2025-02-20 11:49:42 -0500 (Thu, 20 Feb 2025) EndedAt: 2025-02-20 11:50:39 -0500 (Thu, 20 Feb 2025) EllapsedTime: 57.4 seconds RetCode: 0 Status: OK CheckDir: CellMapperData.Rcheck Warnings: 0