Package: ChIPXpressData Version: 1.44.0 Command: /home/biocbuild/bbs-3.20-bioc/R/bin/R CMD build --keep-empty-dirs --no-resave-data ChIPXpressData StartedAt: 2025-02-04 11:08:32 -0500 (Tue, 04 Feb 2025) EndedAt: 2025-02-04 11:13:40 -0500 (Tue, 04 Feb 2025) EllapsedTime: 308.0 seconds RetCode: 0 Status: OK PackageFile: ChIPXpressData_1.44.0.tar.gz PackageFileSize: 3.171 GiB