Package: CluMSIDdata Version: 1.22.0 Maintainer: Tobias Depke MaintainerEmail: tobias.depke at helmholtz-hzi.de git_url: https://git.bioconductor.org/packages/CluMSIDdata git_branch: RELEASE_3_20 git_last_commit: 2299bfa git_last_commit_date: 2024-10-29 09:49:22 -0500 (Tue, 29 Oct 2024)