Package: CluMSIDdata Version: 1.22.0 Command: /home/biocbuild/bbs-3.20-bioc/R/bin/R CMD check --install=check:CluMSIDdata.install-out.txt --library=/home/biocbuild/bbs-3.20-bioc/R/site-library --timings CluMSIDdata_1.22.0.tar.gz StartedAt: 2025-02-06 11:50:02 -0500 (Thu, 06 Feb 2025) EndedAt: 2025-02-06 11:50:15 -0500 (Thu, 06 Feb 2025) EllapsedTime: 13.0 seconds RetCode: 0 Status: OK CheckDir: CluMSIDdata.Rcheck Warnings: 0