Package: CoSIAdata Version: 1.6.0 Command: /home/biocbuild/bbs-3.20-bioc/R/bin/R CMD INSTALL CoSIAdata StartedAt: 2025-02-04 10:57:04 -0500 (Tue, 04 Feb 2025) EndedAt: 2025-02-04 10:57:19 -0500 (Tue, 04 Feb 2025) EllapsedTime: 15.1 seconds RetCode: 0 Status: OK