Package: CopyNeutralIMA Version: 1.24.0 Command: /home/biocbuild/bbs-3.20-bioc/R/bin/R CMD INSTALL CopyNeutralIMA StartedAt: 2025-02-04 10:57:49 -0500 (Tue, 04 Feb 2025) EndedAt: 2025-02-04 10:58:06 -0500 (Tue, 04 Feb 2025) EllapsedTime: 17.6 seconds RetCode: 0 Status: OK