Package: CopyhelpeR Version: 1.38.0 Command: /home/biocbuild/bbs-3.20-bioc/R/bin/R CMD build --keep-empty-dirs --no-resave-data CopyhelpeR StartedAt: 2025-02-04 11:09:55 -0500 (Tue, 04 Feb 2025) EndedAt: 2025-02-04 11:10:02 -0500 (Tue, 04 Feb 2025) EllapsedTime: 7.0 seconds RetCode: 0 Status: OK PackageFile: CopyhelpeR_1.38.0.tar.gz PackageFileSize: 42.66 MiB