Package: DAPARdata
Version: 1.36.0
Maintainer: Samuel Wieczorek
MaintainerEmail: samuel.wieczorek at cea.fr
git_url: https://git.bioconductor.org/packages/DAPARdata
git_branch: RELEASE_3_20
git_last_commit: aaffbb4
git_last_commit_date: 2024-11-06 08:07:42 -0500 (Wed, 06 Nov 2024)