Package: DExMAdata Version: 1.14.0 Command: /home/biocbuild/bbs-3.20-bioc/R/bin/R CMD check --install=check:DExMAdata.install-out.txt --library=/home/biocbuild/bbs-3.20-bioc/R/site-library --timings DExMAdata_1.14.0.tar.gz StartedAt: 2025-02-04 11:56:00 -0500 (Tue, 04 Feb 2025) EndedAt: 2025-02-04 11:56:37 -0500 (Tue, 04 Feb 2025) EllapsedTime: 37.3 seconds RetCode: 0 Status: OK CheckDir: DExMAdata.Rcheck Warnings: 0