Package: DExMAdata Version: 1.14.0 Command: /home/biocbuild/bbs-3.20-bioc/R/bin/R CMD INSTALL DExMAdata StartedAt: 2025-02-04 10:56:10 -0500 (Tue, 04 Feb 2025) EndedAt: 2025-02-04 10:57:05 -0500 (Tue, 04 Feb 2025) EllapsedTime: 54.9 seconds RetCode: 0 Status: OK