Package: DmelSGI Version: 1.38.0 Command: /home/biocbuild/bbs-3.20-bioc/R/bin/R CMD INSTALL DmelSGI StartedAt: 2025-02-04 10:57:37 -0500 (Tue, 04 Feb 2025) EndedAt: 2025-02-04 10:57:42 -0500 (Tue, 04 Feb 2025) EllapsedTime: 5.2 seconds RetCode: 0 Status: OK