Package: DvDdata Version: 1.42.0 Command: /home/biocbuild/bbs-3.20-bioc/R/bin/R CMD INSTALL DvDdata StartedAt: 2025-02-04 10:55:20 -0500 (Tue, 04 Feb 2025) EndedAt: 2025-02-04 10:55:27 -0500 (Tue, 04 Feb 2025) EllapsedTime: 6.7 seconds RetCode: 0 Status: OK