Package: ELMER.data Version: 2.30.0 Command: /home/biocbuild/bbs-3.20-bioc/R/bin/R CMD build --keep-empty-dirs --no-resave-data ELMER.data StartedAt: 2025-02-04 11:14:35 -0500 (Tue, 04 Feb 2025) EndedAt: 2025-02-04 11:16:30 -0500 (Tue, 04 Feb 2025) EllapsedTime: 115.5 seconds RetCode: 0 Status: OK PackageFile: ELMER.data_2.30.0.tar.gz PackageFileSize: 293.4 MiB