Package: EpiMix.data Version: 1.8.0 Command: /home/biocbuild/bbs-3.20-bioc/R/bin/R CMD check --install=check:EpiMix.data.install-out.txt --library=/home/biocbuild/bbs-3.20-bioc/R/site-library --timings EpiMix.data_1.8.0.tar.gz StartedAt: 2025-02-04 12:00:25 -0500 (Tue, 04 Feb 2025) EndedAt: 2025-02-04 12:02:03 -0500 (Tue, 04 Feb 2025) EllapsedTime: 98.2 seconds RetCode: 0 Status: WARNINGS CheckDir: EpiMix.data.Rcheck Warnings: 1