Package: EpiMix.data Version: 1.8.0 Command: /home/biocbuild/bbs-3.20-bioc/R/bin/R CMD INSTALL EpiMix.data StartedAt: 2025-02-04 10:57:19 -0500 (Tue, 04 Feb 2025) EndedAt: 2025-02-04 10:57:33 -0500 (Tue, 04 Feb 2025) EllapsedTime: 14.0 seconds RetCode: 0 Status: OK