Package: EpipwR.data Version: 1.0.0 Command: /home/biocbuild/bbs-3.20-bioc/R/bin/R CMD check --install=check:EpipwR.data.install-out.txt --library=/home/biocbuild/bbs-3.20-bioc/R/site-library --timings EpipwR.data_1.0.0.tar.gz StartedAt: 2025-02-04 12:00:32 -0500 (Tue, 04 Feb 2025) EndedAt: 2025-02-04 12:00:44 -0500 (Tue, 04 Feb 2025) EllapsedTime: 11.3 seconds RetCode: 0 Status: OK CheckDir: EpipwR.data.Rcheck Warnings: 0