Package: EpipwR.data Version: 1.0.0 Command: /home/biocbuild/bbs-3.20-bioc/R/bin/R CMD INSTALL EpipwR.data StartedAt: 2025-02-04 10:57:19 -0500 (Tue, 04 Feb 2025) EndedAt: 2025-02-04 10:57:20 -0500 (Tue, 04 Feb 2025) EllapsedTime: 1.3 seconds RetCode: 0 Status: OK