Package: FIs Version: 1.34.0 Command: /home/biocbuild/bbs-3.20-bioc/R/bin/R CMD build --keep-empty-dirs --no-resave-data FIs StartedAt: 2025-02-04 11:15:48 -0500 (Tue, 04 Feb 2025) EndedAt: 2025-02-04 11:15:49 -0500 (Tue, 04 Feb 2025) EllapsedTime: 1.0 seconds RetCode: 0 Status: OK PackageFile: FIs_1.34.0.tar.gz PackageFileSize: 622.9 KiB