Package: FIs Version: 1.34.0 Command: /home/biocbuild/bbs-3.20-bioc/R/bin/R CMD check --install=check:FIs.install-out.txt --library=/home/biocbuild/bbs-3.20-bioc/R/site-library --timings FIs_1.34.0.tar.gz StartedAt: 2025-02-04 12:02:13 -0500 (Tue, 04 Feb 2025) EndedAt: 2025-02-04 12:02:24 -0500 (Tue, 04 Feb 2025) EllapsedTime: 10.6 seconds RetCode: 0 Status: OK CheckDir: FIs.Rcheck Warnings: 0