Package: FlowSorted.Blood.450k Version: 1.44.0 Command: /home/biocbuild/bbs-3.20-bioc/R/bin/R CMD build --keep-empty-dirs --no-resave-data FlowSorted.Blood.450k StartedAt: 2025-02-04 11:16:12 -0500 (Tue, 04 Feb 2025) EndedAt: 2025-02-04 11:17:38 -0500 (Tue, 04 Feb 2025) EllapsedTime: 85.7 seconds RetCode: 0 Status: OK PackageFile: FlowSorted.Blood.450k_1.44.0.tar.gz PackageFileSize: 167.8 MiB