Package: FlowSorted.Blood.450k Version: 1.44.0 Command: /home/biocbuild/bbs-3.20-bioc/R/bin/R CMD check --install=check:FlowSorted.Blood.450k.install-out.txt --library=/home/biocbuild/bbs-3.20-bioc/R/site-library --timings FlowSorted.Blood.450k_1.44.0.tar.gz StartedAt: 2025-02-04 12:02:44 -0500 (Tue, 04 Feb 2025) EndedAt: 2025-02-04 12:05:50 -0500 (Tue, 04 Feb 2025) EllapsedTime: 186.2 seconds RetCode: 0 Status: WARNINGS CheckDir: FlowSorted.Blood.450k.Rcheck Warnings: 1