Package: FlowSorted.Blood.450k Version: 1.44.0 Command: /home/biocbuild/bbs-3.20-bioc/R/bin/R CMD INSTALL FlowSorted.Blood.450k StartedAt: 2025-02-04 11:02:40 -0500 (Tue, 04 Feb 2025) EndedAt: 2025-02-04 11:03:54 -0500 (Tue, 04 Feb 2025) EllapsedTime: 74.0 seconds RetCode: 0 Status: OK