Package: FlowSorted.DLPFC.450k Version: 1.42.0 Command: /home/biocbuild/bbs-3.20-bioc/R/bin/R CMD check --install=check:FlowSorted.DLPFC.450k.install-out.txt --library=/home/biocbuild/bbs-3.20-bioc/R/site-library --timings FlowSorted.DLPFC.450k_1.42.0.tar.gz StartedAt: 2025-02-04 12:03:30 -0500 (Tue, 04 Feb 2025) EndedAt: 2025-02-04 12:06:32 -0500 (Tue, 04 Feb 2025) EllapsedTime: 182.1 seconds RetCode: 0 Status: WARNINGS CheckDir: FlowSorted.DLPFC.450k.Rcheck Warnings: 1