Package: FlowSorted.DLPFC.450k Version: 1.42.0 Command: /home/biocbuild/bbs-3.20-bioc/R/bin/R CMD INSTALL FlowSorted.DLPFC.450k StartedAt: 2025-02-04 11:02:33 -0500 (Tue, 04 Feb 2025) EndedAt: 2025-02-04 11:03:40 -0500 (Tue, 04 Feb 2025) EllapsedTime: 67.3 seconds RetCode: 0 Status: OK